Package: rnaseqcomp Version: 1.39.0 Command: /Library/Frameworks/R.framework/Resources/bin/R CMD build --keep-empty-dirs --no-resave-data rnaseqcomp StartedAt: 2025-10-03 17:31:52 -0400 (Fri, 03 Oct 2025) EndedAt: 2025-10-03 17:32:02 -0400 (Fri, 03 Oct 2025) EllapsedTime: 10.1 seconds RetCode: 0 Status: OK PackageFile: rnaseqcomp_1.39.0.tar.gz PackageFileSize: 1.532 MiB