Package: rnaEditr Version: 1.19.2 Command: /home/biocbuild/bbs-3.22-bioc/R/bin/R CMD check --install=check:rnaEditr.install-out.txt --library=/home/biocbuild/bbs-3.22-bioc/R/site-library --timings rnaEditr_1.19.2.tar.gz StartedAt: 2025-10-16 04:15:08 -0400 (Thu, 16 Oct 2025) EndedAt: 2025-10-16 04:20:10 -0400 (Thu, 16 Oct 2025) EllapsedTime: 302.4 seconds RetCode: 0 Status: WARNINGS CheckDir: rnaEditr.Rcheck Warnings: 1