Package: rnaEditr Version: 1.21.0 Command: /home/biocbuild/bbs-3.23-bioc/R/bin/R CMD INSTALL rnaEditr StartedAt: 2025-11-06 15:41:34 -0500 (Thu, 06 Nov 2025) EndedAt: 2025-11-06 15:42:11 -0500 (Thu, 06 Nov 2025) EllapsedTime: 36.5 seconds RetCode: 0 Status: OK