Package: rnaEditr Version: 1.21.0 Command: /home/biocbuild/bbs-3.23-bioc/R/bin/R CMD build --keep-empty-dirs --no-resave-data rnaEditr StartedAt: 2025-11-06 19:34:11 -0500 (Thu, 06 Nov 2025) EndedAt: 2025-11-06 19:35:06 -0500 (Thu, 06 Nov 2025) EllapsedTime: 55.1 seconds RetCode: 0 Status: OK PackageFile: rnaEditr_1.21.0.tar.gz PackageFileSize: 1.077 MiB