Package: rmspc Version: 1.17.0 Command: /home/biocbuild/bbs-3.23-bioc/R/bin/R CMD INSTALL rmspc StartedAt: 2025-11-05 15:34:07 -0500 (Wed, 05 Nov 2025) EndedAt: 2025-11-05 15:34:37 -0500 (Wed, 05 Nov 2025) EllapsedTime: 30.3 seconds RetCode: 0 Status: OK