Package: rmspc Version: 1.17.0 Command: /home/biocbuild/bbs-3.23-bioc/R/bin/R CMD build --keep-empty-dirs --no-resave-data rmspc StartedAt: 2025-11-05 19:41:24 -0500 (Wed, 05 Nov 2025) EndedAt: 2025-11-05 19:42:49 -0500 (Wed, 05 Nov 2025) EllapsedTime: 85.1 seconds RetCode: 0 Status: OK PackageFile: rmspc_1.17.0.tar.gz PackageFileSize: 2.176 MiB