Package: rmspc Version: 1.15.0 Command: /Library/Frameworks/R.framework/Resources/bin/R CMD INSTALL rmspc StartedAt: 2025-10-13 15:31:29 -0400 (Mon, 13 Oct 2025) EndedAt: 2025-10-13 15:32:09 -0400 (Mon, 13 Oct 2025) EllapsedTime: 39.8 seconds RetCode: 0 Status: OK