Package: rmspc Version: 1.15.0 Command: /Library/Frameworks/R.framework/Resources/bin/R CMD build --keep-empty-dirs --no-resave-data rmspc StartedAt: 2025-10-13 19:04:08 -0400 (Mon, 13 Oct 2025) EndedAt: 2025-10-13 19:06:06 -0400 (Mon, 13 Oct 2025) EllapsedTime: 118.2 seconds RetCode: 0 Status: OK PackageFile: rmspc_1.15.0.tar.gz PackageFileSize: 2.176 MiB