Package: rmspc Version: 1.15.0 Command: rm -rf rmspc.buildbin-libdir && mkdir rmspc.buildbin-libdir && /Users/biocbuild/BBS/utils/build-universal.sh rmspc_1.15.0.tar.gz /Library/Frameworks/R.framework/Resources/bin/R rmspc.buildbin-libdir StartedAt: 2025-10-14 03:04:06 -0400 (Tue, 14 Oct 2025) EndedAt: 2025-10-14 03:04:51 -0400 (Tue, 14 Oct 2025) EllapsedTime: 44.9 seconds RetCode: 0 Status: OK PackageFile: rmspc_1.15.0.tgz PackageFileSize: 2.188 MiB