Package: rmspc Version: 1.17.0 Maintainer: Meriem Bahda MaintainerEmail: meriembahda at gmail.com git_url: https://git.bioconductor.org/packages/rmspc git_branch: devel git_last_commit: 2f7604a git_last_commit_date: 2025-10-29 11:11:37 -0400 (Wed, 29 Oct 2025)