Package: rmelting Version: 1.27.0 Command: /home/biocbuild/bbs-3.23-bioc/R/bin/R CMD INSTALL rmelting StartedAt: 2025-11-20 15:03:06 -0500 (Thu, 20 Nov 2025) EndedAt: 2025-11-20 15:03:25 -0500 (Thu, 20 Nov 2025) EllapsedTime: 19.2 seconds RetCode: 0 Status: OK