Package: rmelting Version: 1.25.0 Command: /Library/Frameworks/R.framework/Resources/bin/R CMD INSTALL rmelting StartedAt: 2025-10-15 15:06:19 -0400 (Wed, 15 Oct 2025) EndedAt: 2025-10-15 15:06:49 -0400 (Wed, 15 Oct 2025) EllapsedTime: 29.9 seconds RetCode: 0 Status: OK