Package: rmelting Version: 1.25.0 Command: /Library/Frameworks/R.framework/Resources/bin/R CMD build --keep-empty-dirs --no-resave-data rmelting StartedAt: 2025-10-16 19:31:10 -0400 (Thu, 16 Oct 2025) EndedAt: 2025-10-16 19:32:12 -0400 (Thu, 16 Oct 2025) EllapsedTime: 62.0 seconds RetCode: 0 Status: OK PackageFile: rmelting_1.25.0.tar.gz PackageFileSize: 2.488 MiB