Package: rmelting Version: 1.25.0 Command: rm -rf rmelting.buildbin-libdir && mkdir rmelting.buildbin-libdir && /Users/biocbuild/BBS/utils/build-universal.sh rmelting_1.25.0.tar.gz /Library/Frameworks/R.framework/Resources/bin/R rmelting.buildbin-libdir StartedAt: 2025-10-16 03:13:14 -0400 (Thu, 16 Oct 2025) EndedAt: 2025-10-16 03:13:24 -0400 (Thu, 16 Oct 2025) EllapsedTime: 10.5 seconds RetCode: 0 Status: OK PackageFile: rmelting_1.25.0.tgz PackageFileSize: 2.43 MiB