Package: rmelting Version: 1.25.0 Command: /Library/Frameworks/R.framework/Resources/bin/R CMD build --keep-empty-dirs --no-resave-data rmelting StartedAt: 2025-09-30 17:35:36 -0400 (Tue, 30 Sep 2025) EndedAt: 2025-09-30 17:35:49 -0400 (Tue, 30 Sep 2025) EllapsedTime: 13.2 seconds RetCode: 0 Status: OK PackageFile: rmelting_1.25.0.tar.gz PackageFileSize: 2.489 MiB