Package: rmelting Version: 1.25.0 Command: rm -rf rmelting.buildbin-libdir && mkdir rmelting.buildbin-libdir && /Users/biocbuild/BBS/utils/build-universal.sh rmelting_1.25.0.tar.gz /Library/Frameworks/R.framework/Resources/bin/R rmelting.buildbin-libdir StartedAt: 2025-09-30 22:53:30 -0400 (Tue, 30 Sep 2025) EndedAt: 2025-09-30 22:53:32 -0400 (Tue, 30 Sep 2025) EllapsedTime: 2.0 seconds RetCode: 0 Status: OK PackageFile: rmelting_1.25.0.tgz PackageFileSize: 2.432 MiB