Package: rmelting Version: 1.27.0 Maintainer: J. Aravind MaintainerEmail: j.aravind at icar.gov.in git_url: https://git.bioconductor.org/packages/rmelting git_branch: devel git_last_commit: 9b3c944 git_last_commit_date: 2025-10-29 10:49:54 -0400 (Wed, 29 Oct 2025)