Package: rigvf Version: 1.3.0 Command: /home/biocbuild/bbs-3.23-bioc/R/bin/R CMD INSTALL rigvf StartedAt: 2025-11-06 15:14:42 -0500 (Thu, 06 Nov 2025) EndedAt: 2025-11-06 15:14:51 -0500 (Thu, 06 Nov 2025) EllapsedTime: 9.1 seconds RetCode: 0 Status: OK