Package: rigvf Version: 1.3.0 Command: /home/biocbuild/bbs-3.23-bioc/R/bin/R CMD build --keep-empty-dirs --no-resave-data rigvf StartedAt: 2025-11-06 19:32:30 -0500 (Thu, 06 Nov 2025) EndedAt: 2025-11-06 19:33:00 -0500 (Thu, 06 Nov 2025) EllapsedTime: 30.0 seconds RetCode: 0 Status: OK PackageFile: rigvf_1.3.0.tar.gz PackageFileSize: 210.1 KiB