Package: rigvf Version: 1.1.3 Command: /Library/Frameworks/R.framework/Resources/bin/R CMD INSTALL rigvf StartedAt: 2025-10-14 15:17:55 -0400 (Tue, 14 Oct 2025) EndedAt: 2025-10-14 15:18:13 -0400 (Tue, 14 Oct 2025) EllapsedTime: 17.9 seconds RetCode: 0 Status: OK