Package: rigvf Version: 1.1.3 Command: rm -rf rigvf.buildbin-libdir && mkdir rigvf.buildbin-libdir && /Users/biocbuild/BBS/utils/build-universal.sh rigvf_1.1.3.tar.gz /Library/Frameworks/R.framework/Resources/bin/R rigvf.buildbin-libdir StartedAt: 2025-10-16 03:12:56 -0400 (Thu, 16 Oct 2025) EndedAt: 2025-10-16 03:13:16 -0400 (Thu, 16 Oct 2025) EllapsedTime: 19.7 seconds RetCode: 0 Status: OK PackageFile: rigvf_1.1.3.tgz PackageFileSize: 240.1 KiB