Package: rigvf Version: 1.3.0 Maintainer: Michael Love MaintainerEmail: michaelisaiahlove at gmail.com git_url: https://git.bioconductor.org/packages/rigvf git_branch: devel git_last_commit: 7effe5c git_last_commit_date: 2025-10-29 11:35:13 -0400 (Wed, 29 Oct 2025)