Package: rifiComparative Version: 1.9.0 Command: /home/biocbuild/R/R/bin/R CMD INSTALL rifiComparative StartedAt: 2025-10-20 20:44:46 -0000 (Mon, 20 Oct 2025) EndedAt: 2025-10-20 20:45:31 -0000 (Mon, 20 Oct 2025) EllapsedTime: 45.3 seconds RetCode: 0 Status: OK