Package: rifiComparative Version: 1.9.0 Command: /home/biocbuild/R/R/bin/R CMD build --keep-empty-dirs --no-resave-data rifiComparative StartedAt: 2025-10-21 02:29:53 -0000 (Tue, 21 Oct 2025) EndedAt: 2025-10-21 02:38:28 -0000 (Tue, 21 Oct 2025) EllapsedTime: 515.4 seconds RetCode: 0 Status: OK PackageFile: rifiComparative_1.9.0.tar.gz PackageFileSize: 3.212 MiB