Package: rifiComparative Version: 1.11.0 Command: /home/biocbuild/bbs-3.23-bioc/R/bin/R CMD INSTALL rifiComparative StartedAt: 2025-11-05 15:37:22 -0500 (Wed, 05 Nov 2025) EndedAt: 2025-11-05 15:37:57 -0500 (Wed, 05 Nov 2025) EllapsedTime: 34.5 seconds RetCode: 0 Status: OK