Package: rifiComparative Version: 1.11.0 Command: /home/biocbuild/bbs-3.23-bioc/R/bin/R CMD build --keep-empty-dirs --no-resave-data rifiComparative StartedAt: 2025-11-05 19:39:47 -0500 (Wed, 05 Nov 2025) EndedAt: 2025-11-05 19:45:29 -0500 (Wed, 05 Nov 2025) EllapsedTime: 341.4 seconds RetCode: 0 Status: OK PackageFile: rifiComparative_1.11.0.tar.gz PackageFileSize: 3.149 MiB