Package: rifiComparative Version: 1.9.0 Command: /Library/Frameworks/R.framework/Resources/bin/R CMD INSTALL rifiComparative StartedAt: 2025-09-30 15:28:47 -0400 (Tue, 30 Sep 2025) EndedAt: 2025-09-30 15:29:35 -0400 (Tue, 30 Sep 2025) EllapsedTime: 48.1 seconds RetCode: 0 Status: OK