Package: rifiComparative Version: 1.9.0 Command: /Library/Frameworks/R.framework/Resources/bin/R CMD build --keep-empty-dirs --no-resave-data rifiComparative StartedAt: 2025-09-30 18:30:35 -0400 (Tue, 30 Sep 2025) EndedAt: 2025-09-30 18:39:46 -0400 (Tue, 30 Sep 2025) EllapsedTime: 551.5 seconds RetCode: 0 Status: OK PackageFile: rifiComparative_1.9.0.tar.gz PackageFileSize: 3.149 MiB