Package: rifiComparative Version: 1.9.0 Command: rm -rf rifiComparative.buildbin-libdir && mkdir rifiComparative.buildbin-libdir && /Users/biocbuild/BBS/utils/build-universal.sh rifiComparative_1.9.0.tar.gz /Library/Frameworks/R.framework/Resources/bin/R rifiComparative.buildbin-libdir StartedAt: 2025-10-01 02:02:09 -0400 (Wed, 01 Oct 2025) EndedAt: 2025-10-01 02:03:01 -0400 (Wed, 01 Oct 2025) EllapsedTime: 51.8 seconds RetCode: 0 Status: OK PackageFile: rifiComparative_1.9.0.tgz PackageFileSize: 2.436 MiB