Package: rifi Version: 1.15.0 Command: /home/biocbuild/bbs-3.23-bioc/R/bin/R CMD INSTALL rifi StartedAt: 2025-11-20 15:27:00 -0500 (Thu, 20 Nov 2025) EndedAt: 2025-11-20 15:27:39 -0500 (Thu, 20 Nov 2025) EllapsedTime: 39.2 seconds RetCode: 0 Status: OK