Package: rifi Version: 1.13.1 Command: /Library/Frameworks/R.framework/Resources/bin/R CMD INSTALL rifi StartedAt: 2025-10-24 15:35:26 -0400 (Fri, 24 Oct 2025) EndedAt: 2025-10-24 15:36:20 -0400 (Fri, 24 Oct 2025) EllapsedTime: 54.4 seconds RetCode: 0 Status: OK