Package: rifi Version: 1.13.1 Command: /Library/Frameworks/R.framework/Resources/bin/R CMD build --keep-empty-dirs --no-resave-data rifi StartedAt: 2025-10-24 18:29:09 -0400 (Fri, 24 Oct 2025) EndedAt: 2025-10-24 18:31:00 -0400 (Fri, 24 Oct 2025) EllapsedTime: 111.0 seconds RetCode: 0 Status: OK PackageFile: rifi_1.13.1.tar.gz PackageFileSize: 6.606 MiB