Package: rifi Version: 1.13.1 Command: rm -rf rifi.buildbin-libdir && mkdir rifi.buildbin-libdir && /Users/biocbuild/BBS/utils/build-universal.sh rifi_1.13.1.tar.gz /Library/Frameworks/R.framework/Resources/bin/R rifi.buildbin-libdir StartedAt: 2025-10-25 01:59:31 -0400 (Sat, 25 Oct 2025) EndedAt: 2025-10-25 02:00:29 -0400 (Sat, 25 Oct 2025) EllapsedTime: 57.5 seconds RetCode: 0 Status: OK PackageFile: rifi_1.13.1.tgz PackageFileSize: 4.165 MiB