Package: rifi Version: 1.13.1 Command: /Library/Frameworks/R.framework/Resources/bin/R CMD INSTALL rifi StartedAt: 2025-09-30 15:16:48 -0400 (Tue, 30 Sep 2025) EndedAt: 2025-09-30 15:17:03 -0400 (Tue, 30 Sep 2025) EllapsedTime: 15.2 seconds RetCode: 0 Status: OK