Package: rifi Version: 1.13.1 Command: rm -rf rifi.buildbin-libdir && mkdir rifi.buildbin-libdir && /Users/biocbuild/BBS/utils/build-universal.sh rifi_1.13.1.tar.gz /Library/Frameworks/R.framework/Resources/bin/R rifi.buildbin-libdir StartedAt: 2025-09-30 22:53:16 -0400 (Tue, 30 Sep 2025) EndedAt: 2025-09-30 22:53:33 -0400 (Tue, 30 Sep 2025) EllapsedTime: 17.4 seconds RetCode: 0 Status: OK PackageFile: rifi_1.13.1.tgz PackageFileSize: 4.168 MiB