Package: rifi Version: 1.15.0 Maintainer: Jens Georg MaintainerEmail: jens.georg at biologie.uni-freiburg.de git_url: https://git.bioconductor.org/packages/rifi git_branch: devel git_last_commit: 16a7acf git_last_commit_date: 2025-10-29 11:16:59 -0400 (Wed, 29 Oct 2025)