Package: ribosomeProfilingQC Version: 1.21.2 Command: /home/biocbuild/bbs-3.22-bioc/R/bin/R CMD check --install=check:ribosomeProfilingQC.install-out.txt --library=/home/biocbuild/bbs-3.22-bioc/R/site-library --timings ribosomeProfilingQC_1.21.2.tar.gz StartedAt: 2025-10-10 03:34:45 -0400 (Fri, 10 Oct 2025) EndedAt: 2025-10-10 03:46:37 -0400 (Fri, 10 Oct 2025) EllapsedTime: 711.8 seconds RetCode: 0 Status: OK CheckDir: ribosomeProfilingQC.Rcheck Warnings: 0