Package: ribosomeProfilingQC Version: 1.23.0 Command: /home/biocbuild/bbs-3.23-bioc/R/bin/R CMD INSTALL ribosomeProfilingQC StartedAt: 2025-11-26 15:54:21 -0500 (Wed, 26 Nov 2025) EndedAt: 2025-11-26 15:55:13 -0500 (Wed, 26 Nov 2025) EllapsedTime: 52.1 seconds RetCode: 0 Status: OK