Package: ribosomeProfilingQC Version: 1.23.0 Command: /home/biocbuild/bbs-3.23-bioc/R/bin/R CMD build --keep-empty-dirs --no-resave-data ribosomeProfilingQC StartedAt: 2025-11-26 19:37:26 -0500 (Wed, 26 Nov 2025) EndedAt: 2025-11-26 19:41:54 -0500 (Wed, 26 Nov 2025) EllapsedTime: 268.3 seconds RetCode: 0 Status: OK PackageFile: ribosomeProfilingQC_1.23.0.tar.gz PackageFileSize: 3.535 MiB