Package: ribor Version: 1.23.0 Command: /home/biocbuild/bbs-3.23-bioc/R/bin/R CMD INSTALL ribor StartedAt: 2025-11-20 15:13:40 -0500 (Thu, 20 Nov 2025) EndedAt: 2025-11-20 15:13:48 -0500 (Thu, 20 Nov 2025) EllapsedTime: 8.6 seconds RetCode: 0 Status: OK