Package: ribor Version: 1.23.0 Command: /home/biocbuild/bbs-3.23-bioc/R/bin/R CMD build --keep-empty-dirs --no-resave-data ribor StartedAt: 2025-11-20 19:37:19 -0500 (Thu, 20 Nov 2025) EndedAt: 2025-11-20 19:38:21 -0500 (Thu, 20 Nov 2025) EllapsedTime: 62.0 seconds RetCode: 0 Status: OK PackageFile: ribor_1.23.0.tar.gz PackageFileSize: 4.474 MiB