Package: ribor Version: 1.21.0 Command: /Library/Frameworks/R.framework/Resources/bin/R CMD INSTALL ribor StartedAt: 2025-10-16 15:22:26 -0400 (Thu, 16 Oct 2025) EndedAt: 2025-10-16 15:22:30 -0400 (Thu, 16 Oct 2025) EllapsedTime: 3.7 seconds RetCode: 0 Status: OK