Package: ribor Version: 1.21.0 Command: /Library/Frameworks/R.framework/Resources/bin/R CMD build --keep-empty-dirs --no-resave-data ribor StartedAt: 2025-10-16 17:43:37 -0400 (Thu, 16 Oct 2025) EndedAt: 2025-10-16 17:44:09 -0400 (Thu, 16 Oct 2025) EllapsedTime: 31.3 seconds RetCode: 0 Status: OK PackageFile: ribor_1.21.0.tar.gz PackageFileSize: 4.616 MiB