Package: riboSeqR Version: 1.43.1 Command: /Library/Frameworks/R.framework/Resources/bin/R CMD INSTALL riboSeqR StartedAt: 2025-10-17 15:18:52 -0400 (Fri, 17 Oct 2025) EndedAt: 2025-10-17 15:19:13 -0400 (Fri, 17 Oct 2025) EllapsedTime: 21.3 seconds RetCode: 0 Status: OK