Package: riboSeqR Version: 1.43.1 Command: /Library/Frameworks/R.framework/Resources/bin/R CMD build --keep-empty-dirs --no-resave-data riboSeqR StartedAt: 2025-10-16 19:29:45 -0400 (Thu, 16 Oct 2025) EndedAt: 2025-10-16 19:30:26 -0400 (Thu, 16 Oct 2025) EllapsedTime: 41.4 seconds RetCode: 0 Status: OK PackageFile: riboSeqR_1.43.1.tar.gz PackageFileSize: 3.649 MiB