Package: riboSeqR Version: 1.43.1 Command: /Library/Frameworks/R.framework/Resources/bin/R CMD INSTALL riboSeqR StartedAt: 2025-10-07 15:10:53 -0400 (Tue, 07 Oct 2025) EndedAt: 2025-10-07 15:11:00 -0400 (Tue, 07 Oct 2025) EllapsedTime: 6.4 seconds RetCode: 0 Status: OK