Package: riboSeqR Version: 1.43.1 Command: /Library/Frameworks/R.framework/Resources/bin/R CMD build --keep-empty-dirs --no-resave-data riboSeqR StartedAt: 2025-10-07 17:32:13 -0400 (Tue, 07 Oct 2025) EndedAt: 2025-10-07 17:32:24 -0400 (Tue, 07 Oct 2025) EllapsedTime: 11.1 seconds RetCode: 0 Status: OK PackageFile: riboSeqR_1.43.1.tar.gz PackageFileSize: 3.649 MiB