Package: riboSeqR Version: 1.43.1 Command: rm -rf riboSeqR.buildbin-libdir && mkdir riboSeqR.buildbin-libdir && /Users/biocbuild/BBS/utils/build-universal.sh riboSeqR_1.43.1.tar.gz /Library/Frameworks/R.framework/Resources/bin/R riboSeqR.buildbin-libdir StartedAt: 2025-10-07 22:58:51 -0400 (Tue, 07 Oct 2025) EndedAt: 2025-10-07 22:58:58 -0400 (Tue, 07 Oct 2025) EllapsedTime: 7.1 seconds RetCode: 0 Status: OK PackageFile: riboSeqR_1.43.1.tgz PackageFileSize: 3.95 MiB