Package: rhdf5client Version: 1.31.2 Command: /home/biocbuild/R/R/bin/R CMD INSTALL rhdf5client StartedAt: 2025-10-23 20:35:28 -0000 (Thu, 23 Oct 2025) EndedAt: 2025-10-23 20:35:52 -0000 (Thu, 23 Oct 2025) EllapsedTime: 23.8 seconds RetCode: 0 Status: OK