Package: rhdf5client Version: 1.31.2 Command: /home/biocbuild/bbs-3.22-bioc/R/bin/R CMD check --install=check:rhdf5client.install-out.txt --library=/home/biocbuild/bbs-3.22-bioc/R/site-library --timings rhdf5client_1.31.2.tar.gz StartedAt: 2025-10-16 04:09:59 -0400 (Thu, 16 Oct 2025) EndedAt: 2025-10-16 04:12:17 -0400 (Thu, 16 Oct 2025) EllapsedTime: 138.2 seconds RetCode: 0 Status: OK CheckDir: rhdf5client.Rcheck Warnings: 0